BEGIN:VCALENDAR
VERSION:2.0
PRODID:-//ExpressionEngine Easy iCalendar plugin//NONSGML v2.0.0//EN
X-WR-TIMEZONE:America/Denver
X-WR-CALNAME:Upcoming Auctions
BEGIN:VEVENT
UID:119719
DTSTAMP:20250804T080000
DTSTART:20250804T080000
DTEND:20250813T190000
SUMMARY:Barthel Estate Wibaux MT
LOCATION:600 1st SW \, Wibaux\, MT 59353\, US
DESCRIPTION:Barthel Estate Wibaux MT
URL:https://www.smeltzerauctions.com/auctions/detail/bw119719
SEQUENCE:1
END:VEVENT
END:VCALENDAR