BEGIN:VCALENDAR
VERSION:2.0
PRODID:-//ExpressionEngine Easy iCalendar plugin//NONSGML v2.0.1//EN
X-WR-TIMEZONE:America/Denver
X-WR-CALNAME:Upcoming Auctions
BEGIN:VEVENT
UID:152394
DTSTAMP:20260115T080000
DTSTART:20260115T080000
DTEND:20260125T190000
SUMMARY:January Multiple Moving And Downzing Online Auction
LOCATION:203 Highland Park Road\, Glendive \, MT 59330\, US
DESCRIPTION:January Multiple Moving And Downzing Online Auction Glendive
  MT Antiques\, Collectibles\, Coins\, Tools\, Furniture And More
 .
URL:https://www.smeltzerauctions.com/auctions/detail/bw152394
SEQUENCE:1
END:VEVENT
END:VCALENDAR