BEGIN:VCALENDAR
VERSION:2.0
PRODID:-//ExpressionEngine Easy iCalendar plugin//NONSGML v2.0.1//EN
X-WR-TIMEZONE:America/Denver
X-WR-CALNAME:Upcoming Auctions
BEGIN:VEVENT
UID:152953
DTSTAMP:20260112T120000
DTSTART:20260112T120000
DTEND:20260121T190000
SUMMARY:Cash Moving Online Auction Glendive MT
LOCATION:514 Snyder \, Glendive \, MT 59330\, US
DESCRIPTION:Cash Moving Online Auction Glendive MT  Furniture\, Applianc
 es\, Antiques\, Home Decor\, Coins\, Collectibles & More 
URL:https://www.smeltzerauctions.com/auctions/detail/bw152953
SEQUENCE:1
END:VEVENT
END:VCALENDAR