BEGIN:VCALENDAR
VERSION:2.0
PRODID:-//ExpressionEngine Easy iCalendar plugin//NONSGML v2.0.1//EN
X-WR-TIMEZONE:America/Denver
X-WR-CALNAME:Upcoming Auctions
BEGIN:VEVENT
UID:153284
DTSTAMP:20260126T080000
DTSTART:20260126T080000
DTEND:20260218T190000
SUMMARY:February Moving & Downsizing Online Auction
LOCATION:203 Highland Park Road\, Glendive\, MT 59330\, US
DESCRIPTION:February Moving & Downsizing Online Auction
URL:https://www.smeltzerauctions.com/auctions/detail/bw153284
SEQUENCE:1
END:VEVENT
END:VCALENDAR