BEGIN:VCALENDAR
VERSION:2.0
PRODID:-//ExpressionEngine Easy iCalendar plugin//NONSGML v2.0.1//EN
X-WR-TIMEZONE:America/Denver
X-WR-CALNAME:Upcoming Auctions
BEGIN:VEVENT
UID:153840
DTSTAMP:20260121T080000
DTSTART:20260121T080000
DTEND:20260204T190000
SUMMARY:AgPro Solutions Going Out Of Business
LOCATION:1028 N Anderson\, Glendive \, MT 59330\, US
DESCRIPTION:AgPro Solutions Going Out Of Business Online Auction Trucks\,
  Pickups\, Augers\, Creep Feeders\, Feed\, Animal Health\, Office
  Equipment And More
URL:https://www.smeltzerauctions.com/auctions/detail/bw153840
SEQUENCE:1
END:VEVENT
END:VCALENDAR