BEGIN:VCALENDAR
VERSION:2.0
PRODID:-//ExpressionEngine Easy iCalendar plugin//NONSGML v2.0.0//EN
X-WR-TIMEZONE:America/Denver
X-WR-CALNAME:Upcoming Auctions
BEGIN:VEVENT
UID:48930
DTSTAMP:20200515T070000
DTSTART:20200515T070000
DTEND:20200526T190000
SUMMARY:2020 Spring Equipment Sale
LOCATION:414 S Merrill Ave\, Glendive\, MT 59330\, US
DESCRIPTION:Smeltzer Auctions Spring 2020 Online Equipment\, Outdoor & To
 ol Omline Auction. Items are located in multiple locations.
URL:https://www.smeltzerauctions.com/auctions/detail/bw48930
SEQUENCE:1
END:VEVENT
END:VCALENDAR