BEGIN:VCALENDAR
VERSION:2.0
PRODID:-//ExpressionEngine Easy iCalendar plugin//NONSGML v2.0.0//EN
X-WR-TIMEZONE:America/Denver
X-WR-CALNAME:Upcoming Auctions
BEGIN:VEVENT
UID:50369
DTSTAMP:20200611T070000
DTSTART:20200611T070000
DTEND:20200625T190000
SUMMARY:Morasko & Guest Dowsizing Online Auction
LOCATION:2200 N Merrill AVe\, Glendive\, MT 59330\, US
DESCRIPTION:Morasko & Guest Downsizing Online Auction Glendive MT. Antiq
 ues\, Tools\, Collectables\, Quality Furniture & Household Item
 s. Partial Catalog Listed watch smeltzerauctions.com for up
 dates.
URL:https://www.smeltzerauctions.com/auctions/detail/bw50369
SEQUENCE:1
END:VEVENT
END:VCALENDAR