BEGIN:VCALENDAR
VERSION:2.0
PRODID:-//ExpressionEngine Easy iCalendar plugin//NONSGML v2.0.0//EN
X-WR-TIMEZONE:America/Denver
X-WR-CALNAME:Upcoming Auctions
BEGIN:VEVENT
UID:51560
DTSTAMP:20200720T070000
DTSTART:20200720T070000
DTEND:20200730T190000
SUMMARY:Gerorge Schuman Moving Sale
LOCATION:107 2nd Street\, Glendive\, MT 59330\, US
DESCRIPTION:Bid your price on Quality Furniture\, Tools & More!
URL:https://www.smeltzerauctions.com/auctions/detail/bw51560
SEQUENCE:1
END:VEVENT
END:VCALENDAR