BEGIN:VCALENDAR
VERSION:2.0
PRODID:-//ExpressionEngine Easy iCalendar plugin//NONSGML v2.0.0//EN
X-WR-TIMEZONE:America/Denver
X-WR-CALNAME:Upcoming Auctions
BEGIN:VEVENT
UID:54331
DTSTAMP:20200928T070000
DTSTART:20200928T070000
DTEND:20201008T190000
SUMMARY:Multiple Estate Online Auction
LOCATION:313 S Merrill\, Glendive\, MT 59330\, US
DESCRIPTION:Bid Your Price on Quality Antiques\, Furniture\,Collectibles\, 
 Tools\, Out door equipment & more. something for everyone on 
 this sale!
URL:https://www.smeltzerauctions.com/auctions/detail/bw54331
SEQUENCE:1
END:VEVENT
END:VCALENDAR