BEGIN:VCALENDAR
VERSION:2.0
PRODID:-//ExpressionEngine Easy iCalendar plugin//NONSGML v2.0.0//EN
X-WR-TIMEZONE:America/Denver
X-WR-CALNAME:Upcoming Auctions
BEGIN:VEVENT
UID:59155
DTSTAMP:20210211T080000
DTSTART:20210211T080000
DTEND:20210225T190000
SUMMARY:February Gun & Collectible Online Auction
LOCATION:440 N Central\, Sidney\, MT 59270\, US
DESCRIPTION:Bid Your Price on Lots of Quality Firearms\, Coins\, Collectib
 le's & Ammo! Watch our web site for the complete listing as 
 we will be adding items up until bidding opens. ITEMS LOCATE
 D IN SIDNEY MT.
URL:https://www.smeltzerauctions.com/auctions/detail/bw59155
SEQUENCE:1
END:VEVENT
END:VCALENDAR