BEGIN:VCALENDAR
VERSION:2.0
PRODID:-//ExpressionEngine Easy iCalendar plugin//NONSGML v2.0.0//EN
X-WR-TIMEZONE:America/Denver
X-WR-CALNAME:Upcoming Auctions
BEGIN:VEVENT
UID:71405
DTSTAMP:20211108T080000
DTSTART:20211108T080000
DTEND:20211118T190000
SUMMARY:Living Estate Glendive MT
LOCATION:112 N Nowlan\, Glendive\, MT 59330\, US
DESCRIPTION:Bid your Price On Quality Collectibles\, Furniture\, Household
  Items & More Living Estate Online Auction Glendive MT  Par
 tial Catalog listed watch smeltzerauctions.com for updates. 
 Preview Tuesday November 16\,  4PM to 6:30PM Watch for signs
 .
URL:https://www.smeltzerauctions.com/auctions/detail/bw71405
SEQUENCE:1
END:VEVENT
END:VCALENDAR