BEGIN:VCALENDAR
VERSION:2.0
PRODID:-//ExpressionEngine Easy iCalendar plugin//NONSGML v2.0.0//EN
X-WR-TIMEZONE:America/Denver
X-WR-CALNAME:Upcoming Auctions
BEGIN:VEVENT
UID:86225
DTSTAMP:20220824T080000
DTSTART:20220824T080000
DTEND:20220906T190000
SUMMARY:Schaaf Downsizing Fallon MT
LOCATION:601 S Railway\, Fallon\, MT 59326\, US
DESCRIPTION:Buy at your price Furniture\, Collectibles\, Sportong Goods\, T
 ools & More!
URL:https://www.smeltzerauctions.com/auctions/detail/bw86225
SEQUENCE:1
END:VEVENT
END:VCALENDAR